BEGIN:VCALENDAR
VERSION:2.0
PRODID:icalendar-ruby
CALSCALE:GREGORIAN
METHOD:PUBLISH
BEGIN:VEVENT
DTSTAMP:20260423T015315Z
UID:26-1494586@amherstwesleyan.com
DTSTART:20261101T143000Z
DTEND:20261101T153000Z
CLASS:PUBLIC
CREATED:20260422T224423
DESCRIPTION:Join us on Sundays for our weekly Worship Service and our Konne
 ct Kids program!\nService starts at 10:30am!
LAST-MODIFIED:20260422T224423
LOCATION:Amherst Wesleyan Church
SUMMARY:Worship & Konnect Kids
URL;VALUE=URI:https://amherstwesleyan.com/events/worship-konnect-kids/2026-
 11-01
END:VEVENT
END:VCALENDAR
