BEGIN:VCALENDAR
VERSION:2.0
PRODID:icalendar-ruby
CALSCALE:GREGORIAN
METHOD:PUBLISH
BEGIN:VEVENT
DTSTAMP:20260423T003005Z
UID:26-1493706@amherstwesleyan.com
DTSTART:20261025T133000Z
DTEND:20261025T143000Z
CLASS:PUBLIC
CREATED:20260422T195158
DESCRIPTION:Join us on Sundays for our weekly Worship Service and our Konne
 ct Kids program!\nService starts at 10:30am!
LAST-MODIFIED:20260422T195158
LOCATION:Amherst Wesleyan Church
SUMMARY:Worship & Konnect Kids
URL;VALUE=URI:https://amherstwesleyan.com/events/worship-konnect-kids/2026-
 10-25
END:VEVENT
END:VCALENDAR
